BEGIN:VCALENDAR
METHOD:PUBLISH
VERSION:2.0
CALSCALE:GREGORIAN
BEGIN:VTIMEZONE
TZID:Europe/Paris
BEGIN:DAYLIGHT
TZOFFSETFROM:+0100
RRULE:FREQ=YEARLY;BYMONTH=3;BYDAY=-1SU
DTSTART:19810329T020000
TZNAME:UTC+2
TZOFFSETTO:+0200
END:DAYLIGHT
BEGIN:STANDARD
TZOFFSETFROM:+0200
RRULE:FREQ=YEARLY;BYMONTH=10;BYDAY=-1SU
DTSTART:19961027T030000
TZNAME:UTC+1
TZOFFSETTO:+0100
END:STANDARD
END:VTIMEZONE
BEGIN:VEVENT
UID:6877
DTSTART;TZID=Europe/Paris:20260317T083000
DTEND;TZID=Europe/Paris:20260320T170000
DTSTAMP;TZID=Europe/Paris:20260421T115638
LOCATION:Collège professeur Nicaise
SUMMARY:Printemps de l’orientation elles bougent au collège Professeur Nicaise.
DESCRIPTION:Rencontre des élèves de 5ème et 4ème intéressées par cette intervention sous forme de différents groupes (si possible en fonction du nombre de marraines). Dans le descriptif de l'action, je n'ai pas indiqué de date précise sur la semaine. Toutefois, il est...
URL;VALUE=URI:https://www.ellesbougent.com/agenda/calendrier/printemps-de-orientation-elles-bougent-au-college-professeur-nicaise-6877/
SEQUENCE:0
END:VEVENT
END:VCALENDAR
