BEGIN:VCALENDAR
METHOD:PUBLISH
VERSION:2.0
CALSCALE:GREGORIAN
BEGIN:VTIMEZONE
TZID:Europe/Paris
BEGIN:DAYLIGHT
TZOFFSETFROM:+0100
RRULE:FREQ=YEARLY;BYMONTH=3;BYDAY=-1SU
DTSTART:19810329T020000
TZNAME:UTC+2
TZOFFSETTO:+0200
END:DAYLIGHT
BEGIN:STANDARD
TZOFFSETFROM:+0200
RRULE:FREQ=YEARLY;BYMONTH=10;BYDAY=-1SU
DTSTART:19961027T030000
TZNAME:UTC+1
TZOFFSETTO:+0100
END:STANDARD
END:VTIMEZONE
BEGIN:VEVENT
UID:3537
DTSTART;TZID=Europe/Paris:20230723T093000
DTEND;TZID=Europe/Paris:20230723T170000
DTSTAMP;TZID=Europe/Paris:20260421T103809
LOCATION: Clermont-Ferrand
SUMMARY:Étape 1 - Clermont-Ferrand - Clermont-Ferrand (124 km)
DESCRIPTION:Inscription marraines au départ n1 du Tour de France Femmes - Région auvergne
URL;VALUE=URI:https://www.ellesbougent.com/agenda/calendrier/etape-1-clermont-ferrand-clermont-ferrand-124-km-3537/
SEQUENCE:0
END:VEVENT
END:VCALENDAR
